BEGIN:VCALENDAR
VERSION:2.0
PRODID:-//Institut de formation continue du Québec - ECPv6.15.18//NONSGML v1.0//EN
CALSCALE:GREGORIAN
METHOD:PUBLISH
X-ORIGINAL-URL:https://ifcq.ca
X-WR-CALDESC:Évènements pour Institut de formation continue du Québec
REFRESH-INTERVAL;VALUE=DURATION:PT1H
X-Robots-Tag:noindex
X-PUBLISHED-TTL:PT1H
BEGIN:VTIMEZONE
TZID:America/New_York
BEGIN:DAYLIGHT
TZOFFSETFROM:-0500
TZOFFSETTO:-0400
TZNAME:EDT
DTSTART:20250309T070000
END:DAYLIGHT
BEGIN:STANDARD
TZOFFSETFROM:-0400
TZOFFSETTO:-0500
TZNAME:EST
DTSTART:20251102T060000
END:STANDARD
BEGIN:DAYLIGHT
TZOFFSETFROM:-0500
TZOFFSETTO:-0400
TZNAME:EDT
DTSTART:20260308T070000
END:DAYLIGHT
BEGIN:STANDARD
TZOFFSETFROM:-0400
TZOFFSETTO:-0500
TZNAME:EST
DTSTART:20261101T060000
END:STANDARD
BEGIN:DAYLIGHT
TZOFFSETFROM:-0500
TZOFFSETTO:-0400
TZNAME:EDT
DTSTART:20270314T070000
END:DAYLIGHT
BEGIN:STANDARD
TZOFFSETFROM:-0400
TZOFFSETTO:-0500
TZNAME:EST
DTSTART:20271107T060000
END:STANDARD
END:VTIMEZONE
BEGIN:VEVENT
DTSTART;TZID=America/New_York:20261102T090000
DTEND;TZID=America/New_York:20261102T160000
DTSTAMP:20260421T075415
CREATED:20240213T143630Z
LAST-MODIFIED:20260109T002653Z
UID:101221-1793610000-1793635200@ifcq.ca
SUMMARY:Interventions de groupe : pour en optimiser l’impact et l’efficacité - 2 et 16 novembre 2026
DESCRIPTION:]FORMATION SUR 2 JOURS – les 2 et 16 novembre 2026 de 9 h à 16 h \nDescriptif \nLes interventions de groupe sont de plus en plus prisées afin de réduire les listes d’attente dans le réseau de la santé et les organismes communautaires. En pratique privée\, les interventions de groupe qui sont bien organisées et conduites avec savoir-faire peuvent permettre de rendre service à plus de clients\, en moins de temps. Et dans un contexte de gestion\, les interventions de groupe permettent de développer la cohésion au sein d’une équipe\, et sont souvent utiles dans le contexte de développement des services et des programmes. Le groupe est donc une modalité puissante permettant d’atteindre divers objectifs\, selon votre rôle et votre milieu de travail. \nContenu \nÀ travers cette formation\, vous développerez des outils et des stratégies concrètes vous permettant de :\n– Développer votre confiance et votre assurance lorsque vous animez un groupe ;\n– Utiliser les interactions de groupe comme opportunité et modalité d’intervention ;\n– Soutenir l’évolution de la dynamique de groupe ;\n– Faire en sorte que les apprentissages soient significatifs et répondent aux besoins des participants ;\n– Devenir le message que vous voulez enseigner\, et aider les participants à le devenir aussi. \nClientèle visée \nCette formation s’adresse à toute personne qui œuvre dans le contexte d’activités de groupe pour adultes et qui souhaite améliorer ses compétences pour optimiser l’impact et l’efficacité de ses interventions de groupe. \nQue vous soyez un professionnel de la santé du secteur publique ou privé\, un professeur\, un formateur\, un animateur\, un gestionnaire\, ou un coach\, cette formation peut répondre à votre besoin de développer votre expertise en animation de groupe. \nSuite à cette formation\, vous serez en mesure de :\n– Créer un groupe de sorte que vos interventions soient optimisées ;\n– Incarner votre propre style d’animation ;\n– Improviser durant les interventions de groupe (et donc réduire le temps de préparation) ;\n– Apprécier que votre présence facilite la transformation des participants. \nLa formation se fera sous forme de Mastermind\, et comprendra une présentation informative\, des échanges et partages d’idées\, et des discussions sur des situations de défis abordées par les participants. La formation sera scindée en deux jours\, à deux dates espacées pour permettre aux participants de pratiquer l’application des stratégies et des outils\, puis de recevoir de la rétroaction. « Il s’agit d’une formation de perfectionnement selon l’approche Mastermind\, qui vise majoritairement les échanges et partages d’expérience et d’expertise\, ainsi que la mise en pratique de techniques d’intervention par des mises en situation et des jeux de rôle. La formation comprend aussi une partie théorique pour établir les fondements des techniques d’intervention de groupe\, mais notez que la théorie est minimale dans cette formation. »  \nFormation en webinaire via l’application zoom.  Les informations de connexion ainsi que les notes de cours seront transmises une semaine avant la formation.  \nNOTE IMPORTANTE : chaque participant doit suivre la formation en ligne à partir d’un lap top ou d’un poste de travail individuel. Nos sessions de formation ne se prêtent pas à une diffusion dans une salle de réunion ni une salle de classe\, à moins qu’elle soit offerte en présentiel. \n  \n 
URL:https://ifcq.ca/formation/interventions-de-groupe-pour-en-optimiser-limpact-et-lefficacite-7-21-octobre-2024/
CATEGORIES:CONSEILLER CLINIQUE ET GESTION,RELATION D'AIDE,SANTÉ MENTALE,SANTÉ PHYSIQUE
ATTACH;FMTTYPE=image/png:https://ifcq.ca/wp-content/uploads/2024/02/Formations-IFCQ.png
END:VEVENT
BEGIN:VEVENT
DTSTART;TZID=America/New_York:20261106T090000
DTEND;TZID=America/New_York:20261106T160000
DTSTAMP:20260421T075416
CREATED:20250609T133639Z
LAST-MODIFIED:20251203T133326Z
UID:103233-1793955600-1793980800@ifcq.ca
SUMMARY:Accroître l'alliance thérapeutique par l'art de la présence empathique
DESCRIPTION:Description : \nLa qualité du lien thérapeutique est désormais reconnue comme un élément central de l’efficacité des interventions cliniques. Mais quels sont les leviers concrets permettant de renforcer cette connexion essentielle avec nos clients? \nCet atelier propose aux professionnels un espace d’exploration et de développement afin d’approfondir leur capacité de Présence et d’Empathie — deux piliers de l’alliance thérapeutique. \nÀ travers une approche combinant apports théoriques et mises en pratique expérientielles\, les participants seront invités à expérimenter une posture d’écoute renouvelée et à affiner leurs habiletés dialogiques\, dans le but de favoriser une relation thérapeutique plus authentique\, engagée et bienveillante. \n Objectifs : \nSuite à cette formation\, vous serez en mesure de : \n\nDévelopper des habiletés d’écoute empathique\, incluant l’écoute silencieuse\, la reformulation et les reflets empathiques. Reconnaître les différents obstacles à l’écoute réelle.\nCommencer à identifier les sentiments et les besoins de nos clients selon l’approche en Communication Non Violente.\nMieux reconnaître et comprendre l’état interne de son propre système nerveux autonome (SNA) selon l’approche de la théorie polyvagale. Identifier l’impact de l’état de notre SNA sur notre capacité de présence et de disponibilité. \nIdentifier des outils adéquats pour soi afin de réguler son état interne.\nConscientiser notre intention dans le lien et le dialogue.\nDévelopper des habiletés dialogiques afin d’intervenir avec plus de compréhension et de sensibilité envers soi-même et dans son rôle d’intervenant.\nDévelopper des habiletés dialogiques aussi transférables dans les interactions avec les collègues de travail.\n\nContenu : \nSuite à cette formation\, vous serez en mesure de : \n\nComprendre le sens et la puissance de l’écoute empathique en s’appuyant sur les données probantes.\nDistinguer l’empathie et la sympathie.\nMieux comprendre la notion de sentiment et besoin.\nMieux comprendre son propre système nerveux autonome à travers l’approche de la théorie polyvagale (TPV).\n\nClientèle visée : \nCette formation s’adresse aux professionnels de la santé\, à toutes personnes ayant un rôle d’aidant ou travaillant en relation d’aide\, ainsi qu’à toutes autres personnes ayant un intérêt sur le sujet. \nFormat : \nLa formation comprend une partie théorique pour établir les principes de base\, d’expérimentation de différentes notions\, de démonstrations et de partages d’expériences. \nFormation en webinaire via l’application zoom \nLes informations de connexion ainsi que les notes de cours seront transmises une semaine avant la formation.   \n  \nNOTE IMPORTANTE : chaque participant doit suivre la formation en ligne à partir d’un lap top ou d’un poste de travail individuel. \nNos sessions de formation ne se prêtent pas à une diffusion dans une salle de réunion ni une salle de classe\, à moins qu’elle soit offerte en présentiel.
URL:https://ifcq.ca/formation/accroitre-lalliance-therapeutique-par-lart-de-la-presence-empathique/
CATEGORIES:CONSEILLER CLINIQUE ET GESTION,RELATION D'AIDE,SANTÉ MENTALE
ATTACH;FMTTYPE=image/png:https://ifcq.ca/wp-content/uploads/2025/06/Creation-sans-titre-18.png
END:VEVENT
END:VCALENDAR