BEGIN:VCALENDAR
VERSION:2.0
PRODID:-//Institut de formation continue du Québec - ECPv6.15.18//NONSGML v1.0//EN
CALSCALE:GREGORIAN
METHOD:PUBLISH
X-ORIGINAL-URL:https://ifcq.ca
X-WR-CALDESC:Évènements pour Institut de formation continue du Québec
REFRESH-INTERVAL;VALUE=DURATION:PT1H
X-Robots-Tag:noindex
X-PUBLISHED-TTL:PT1H
BEGIN:VTIMEZONE
TZID:America/New_York
BEGIN:DAYLIGHT
TZOFFSETFROM:-0500
TZOFFSETTO:-0400
TZNAME:EDT
DTSTART:20250309T070000
END:DAYLIGHT
BEGIN:STANDARD
TZOFFSETFROM:-0400
TZOFFSETTO:-0500
TZNAME:EST
DTSTART:20251102T060000
END:STANDARD
BEGIN:DAYLIGHT
TZOFFSETFROM:-0500
TZOFFSETTO:-0400
TZNAME:EDT
DTSTART:20260308T070000
END:DAYLIGHT
BEGIN:STANDARD
TZOFFSETFROM:-0400
TZOFFSETTO:-0500
TZNAME:EST
DTSTART:20261101T060000
END:STANDARD
BEGIN:DAYLIGHT
TZOFFSETFROM:-0500
TZOFFSETTO:-0400
TZNAME:EDT
DTSTART:20270314T070000
END:DAYLIGHT
BEGIN:STANDARD
TZOFFSETFROM:-0400
TZOFFSETTO:-0500
TZNAME:EST
DTSTART:20271107T060000
END:STANDARD
END:VTIMEZONE
BEGIN:VEVENT
DTSTART;TZID=America/New_York:20261203T090000
DTEND;TZID=America/New_York:20261203T160000
DTSTAMP:20260421T200229
CREATED:20240122T123926Z
LAST-MODIFIED:20260205T152549Z
UID:100992-1796288400-1796313600@ifcq.ca
SUMMARY:Rester actif malgré la douleur : le rôle de l’ergothérapeute
DESCRIPTION:Description\nLes contextes sociaux\, politiques\, économiques et cliniques actuels convient les ergothérapeutes à sortir des cadres cliniques traditionnels et à développer de services innovateurs directement liés aux situations vécues par leurs clients. Pour ce faire\, l’ergothérapeute doit utiliser sa vision centrée sur les liens entre son client\, son environnement et les occupations et déplacer ses interventions vers les milieux réels de vie du client afin de l’aider à agir sur sa santé. \nObjectifs \nCette formation a pour objectif de discuter le rôle de l’ergothérapeute dans le traitement de la douleur (chronique ou non) dans une approche de mobilisation vers l’action. \nContenu \nProblématique liée à l’activation pour les clients en douleur\, interventions d’activation à domicile\, principes de mobilisation des clients et collaboration avec les divers acteurs liés à l’activation dans les différents contextes du client (domicile\, travail\, loisirs). \nClientèle visée\nCette formation s’adresse aux ergothérapeutes désirant se familiariser avec les principes et les modalités utilisées afin de mobiliser le client présentant de la douleur dans le but qu’il demeure actif. \nMéthode pédagogique\nExposés\, discussions en groupe\, analyses de vignettes cliniques. \n\n\nFormation en webinaire via l’application zoom \nLes informations de connexion ainsi que les notes de cours seront transmises une semaine avant la formation.  \nNOTE IMPORTANTE : chaque participant doit suivre la formation en ligne à partir d’un lap top ou d’un poste de travail individuel.  Nos sessions de formation ne se prêtent pas à une diffusion dans une salle de réunion ni une salle de classe\, à moins qu’elle soit offerte en présentiel.
URL:https://ifcq.ca/formation/rester-actif-malgre-la-douleur-le-role-de-lergotherapeute/
CATEGORIES:RELATION D'AIDE,SANTÉ MENTALE,SANTÉ PHYSIQUE
ATTACH;FMTTYPE=image/png:https://ifcq.ca/wp-content/uploads/2024/01/Images-formations-IFCQ.png
END:VEVENT
END:VCALENDAR