BEGIN:VCALENDAR
VERSION:2.0
PRODID:-//Institut de formation continue du Québec - ECPv6.15.18//NONSGML v1.0//EN
CALSCALE:GREGORIAN
METHOD:PUBLISH
X-WR-CALNAME:Institut de formation continue du Québec
X-ORIGINAL-URL:https://ifcq.ca
X-WR-CALDESC:Évènements pour Institut de formation continue du Québec
REFRESH-INTERVAL;VALUE=DURATION:PT1H
X-Robots-Tag:noindex
X-PUBLISHED-TTL:PT1H
BEGIN:VTIMEZONE
TZID:America/New_York
BEGIN:DAYLIGHT
TZOFFSETFROM:-0500
TZOFFSETTO:-0400
TZNAME:EDT
DTSTART:20250309T070000
END:DAYLIGHT
BEGIN:STANDARD
TZOFFSETFROM:-0400
TZOFFSETTO:-0500
TZNAME:EST
DTSTART:20251102T060000
END:STANDARD
BEGIN:DAYLIGHT
TZOFFSETFROM:-0500
TZOFFSETTO:-0400
TZNAME:EDT
DTSTART:20260308T070000
END:DAYLIGHT
BEGIN:STANDARD
TZOFFSETFROM:-0400
TZOFFSETTO:-0500
TZNAME:EST
DTSTART:20261101T060000
END:STANDARD
BEGIN:DAYLIGHT
TZOFFSETFROM:-0500
TZOFFSETTO:-0400
TZNAME:EDT
DTSTART:20270314T070000
END:DAYLIGHT
BEGIN:STANDARD
TZOFFSETFROM:-0400
TZOFFSETTO:-0500
TZNAME:EST
DTSTART:20271107T060000
END:STANDARD
END:VTIMEZONE
BEGIN:VEVENT
DTSTART;TZID=America/New_York:20260828T090000
DTEND;TZID=America/New_York:20260828T160000
DTSTAMP:20260421T141643
CREATED:20241122T155939Z
LAST-MODIFIED:20251216T023143Z
UID:102486-1787907600-1787932800@ifcq.ca
SUMMARY:Manutention manuelle – Comment utiliser les Principes d’action\, l’Approche SIPM et l’Ergonomie dans vos Interventions et vos Formations (en présentiel)
DESCRIPTION:Description :  \nBeaucoup de gens réalisent des activités de manutention dans le cadre de leur travail\, et ces activités peuvent comporter certains risques. Comment les identifier ? Comment trouver des pistes de solution pour les réduire ? \nDurant cette formation en présentiel\, nous aurons l’occasion de pratiquer ensemble des méthodes de manutention dans le cadre d’une mise en situation de formation sur le terrain. Je vous présenterai aussi des principes et méthodes vous permettant de collaborer avec les travailleurs dans l’identification des risques et des solutions en milieu de travail. \nAvec une expérience terrain de plus de 230 formations en Manutention manuelle\, j’apporte une expertise intéressante sur l’agilité et le rôle de facilitateur durant vos formations\, ainsi que les points importants à considérer dans vos interventions. \nObjectif: \nMes objectifs pour cette formation en présentiel sont de m’assurer que : \nVous serez en mesure d’intégrer les Principes d’action et l’Approche SIPM de l’IRSST dans vos interventions et vos programmes de formation ; \nVous comprendrez pourquoi il est important de jouer un rôle de facilitateur\, plutôt que de mettre un chapeau d’expert\, afin d’avoir accès aux informations pertinentes provenant des travailleurs\, et d’émettre des recommandations qui font du sens pour eux ; \nVous connaitrez bien les principes de base en Ergonomie qui s’appliquent à la Manutention manuelle. \nClientèle visée: \nToute personne s’intéressant aux nouveaux concepts en Manutention manuelle\, notamment les ergonomes\, ergothérapeutes\, kinésiologues et physiothérapeutes. \nContenu: \nBases en Ergonomie \n\n\n\nTMS\, Facteurs de risques\, Déterminants\nTravail prescrit vs réel\nVariabilité du travail\nMarge de manœuvre\nImpliquer les travailleurs !\nL’intervention en ergonomie\n\n\n\nLa Manutention manuelle aujourd’hui \n\n\n\nDéconstruire le modèle « Dos droit – Genoux fléchis »\nAnalyse de situations via des photos\nL’approche SIPM et les 5 principes d’action de l’IRSST\nLes facteurs personnels\nLes nouvelles méthodes de formation en Manutention manuelle avec l’approche SIPM\nLes 4 grandes familles de pistes de solution\nLes normes en Manutention manuelle\n\n\n\nDétails pour la section « Nouvelles méthodes de formation en Manutention » \n\n\n\nPréparation avant la formation\nCercle d’ouverture de la formation\nStratégies durant la formation\n\nSavoir être\nRôle de Facilitateur\nMettre les travailleurs en action\n\n\nQuoi faire après la formation\n\n\n\nPlan ou méthode pédagogique: \nExposés avec Powerpoint\, échanges avec les participants\, démonstrations et atelier pratique de 45 minutes avec les participants sur les techniques de manutention\, répondre à vos questions. \nCETTE FORMATION EST OFFERTE EN PRÉSENTIEL. Voir adresse sous Emplacement.  Au plaisir de vous y accueillir! 
URL:https://ifcq.ca/formation/manutention-manuelle-comment-utiliser-les-principes-daction-lapproche-sipm-et-lergonomie-dans-vos-interventions-et-vos-formations-en-presentiel/
LOCATION:Centre d’affaires EXCEL\, 3200 autoroute Jean-Noël Lavoie (440)\, Laval\, Québec\, H7T 2H6\, Canada
CATEGORIES:ERGONOMIE ET SANTÉ AU TRAVAIL,SANTÉ PHYSIQUE
ATTACH;FMTTYPE=image/png:https://ifcq.ca/wp-content/uploads/2024/11/Glisser-la-charge-3.png
END:VEVENT
END:VCALENDAR