BEGIN:VCALENDAR
VERSION:2.0
PRODID:-//Institut de formation continue du Québec - ECPv6.15.18//NONSGML v1.0//EN
CALSCALE:GREGORIAN
METHOD:PUBLISH
X-WR-CALNAME:Institut de formation continue du Québec
X-ORIGINAL-URL:https://ifcq.ca
X-WR-CALDESC:Évènements pour Institut de formation continue du Québec
REFRESH-INTERVAL;VALUE=DURATION:PT1H
X-Robots-Tag:noindex
X-PUBLISHED-TTL:PT1H
BEGIN:VTIMEZONE
TZID:America/New_York
BEGIN:DAYLIGHT
TZOFFSETFROM:-0500
TZOFFSETTO:-0400
TZNAME:EDT
DTSTART:20250309T070000
END:DAYLIGHT
BEGIN:STANDARD
TZOFFSETFROM:-0400
TZOFFSETTO:-0500
TZNAME:EST
DTSTART:20251102T060000
END:STANDARD
BEGIN:DAYLIGHT
TZOFFSETFROM:-0500
TZOFFSETTO:-0400
TZNAME:EDT
DTSTART:20260308T070000
END:DAYLIGHT
BEGIN:STANDARD
TZOFFSETFROM:-0400
TZOFFSETTO:-0500
TZNAME:EST
DTSTART:20261101T060000
END:STANDARD
BEGIN:DAYLIGHT
TZOFFSETFROM:-0500
TZOFFSETTO:-0400
TZNAME:EDT
DTSTART:20270314T070000
END:DAYLIGHT
BEGIN:STANDARD
TZOFFSETFROM:-0400
TZOFFSETTO:-0500
TZNAME:EST
DTSTART:20271107T060000
END:STANDARD
END:VTIMEZONE
BEGIN:VEVENT
DTSTART;TZID=America/New_York:20260911T090000
DTEND;TZID=America/New_York:20260911T160000
DTSTAMP:20260421T154424
CREATED:20240125T162814Z
LAST-MODIFIED:20260331T133241Z
UID:101025-1789117200-1789142400@ifcq.ca
SUMMARY:Approche cognitivo-comportementale dans le traitement des troubles anxieux - 11 & 18 septembre 2026
DESCRIPTION:FORMATION DE DEUX JOURS: LES  11 et 18 septembre 2026 de 9 h à 16 h \nDescription  \nÉvaluation et traitement des troubles anxieux suivants: Agoraphobie\, trouble panique\, anxiété généralisée\, trouble obsessionnel compulsif\, phobie sociale et stress post-traumatique autant chez l’adolescent que chez l’adulte. \nObjectifs  \nReconnaître les symptômes des divers troubles anxieux pour pouvoir les identifier rapidement en clinique; connaître les modèles conceptuels selon l’approche cognitivo-comportementale des troubles anxieux les plus couramment retrouvés en contexte clinique; apprendre à évaluer les troubles anxieux; apprendre à appliquer les stratégies thérapeutiques selon le modèle cognitivo-comportemental pour chacun des troubles anxieux ci-haut énumérés. \nClientèle visée  \nCliniciens impliqués auprès de cette clientèle (ergothérapeute\, infirmière\, psychologue\, psychopédagogue\, …). \nContenu  \nConnaître et utiliser les outils d’évaluation pour chacun des troubles anxieux; apprendre à  faire une analyse fonctionnelle; structurer chaque entrevue selon le modèle proposé par la TCC; planifier un plan d’intervention; utiliser les travaux et les exercices à domicile; connaître les données probantes au sujet de l’efficacité des traitements. \nMéthode pédagogique \nDémonstration à partir de vignettes cliniques et de vidéo ; manuel de procédure pour chaque participant ; mise en situation. \nFormation en webinaire via l’application zoom \nLes informations de connexion ainsi que les notes de cours seront transmises une semaine avant la formation. 
URL:https://ifcq.ca/formation/approche-cognitivo-comportementale-dans-le-traitement-des-troubles-anxieux-23-mai-2024/
CATEGORIES:RELATION D'AIDE,SANTÉ MENTALE,SANTÉ PHYSIQUE
ATTACH;FMTTYPE=image/png:https://ifcq.ca/wp-content/uploads/2024/01/Images-formations-IFCQ-3.png
END:VEVENT
BEGIN:VEVENT
DTSTART;TZID=America/New_York:20260925T090000
DTEND;TZID=America/New_York:20260925T130000
DTSTAMP:20260421T154424
CREATED:20250624T154455Z
LAST-MODIFIED:20251215T144017Z
UID:103315-1790326800-1790341200@ifcq.ca
SUMMARY:Gestion des blessures musculo-squelettiques - FORMATION D'UNE DURÉE DE 4 HEURES
DESCRIPTION:Gestion des blessures musculo-squelettiques (Durée de 4 heures) \n Description \nCette formation s’adresse à tout professionnel souhaitant approfondir sa compréhension du système musculo-squelettique : adaptation tissulaire\, distribution du stress mécanique\, causes fréquentes de blessures et processus de guérison. \nElle couvre les notions clés que tout intervenant en santé physique devrait maîtriser — de la tenségrité aux schèmes de mouvement\, en passant par la lecture des signaux corporels. L’objectif est de clarifier la réflexion clinique\, mieux comprendre les origines des blessures et choisir des interventions pertinentes pour chaque client. \nLe cours est théorique dans son contenu\, mais vivant dans sa forme : il repose principalement sur des discussions interactives\, de l’exploration corporelle guidée\, de la pleine conscience\, de l’auto-massage et de la mobilité active. Chaque participant est invité à expérimenter les concepts dans son propre corps pour mieux les intégrer à sa pratique. \nVous repartirez avec une compréhension élargie de l’humain\, de la performance et des dynamiques de guérison. \nObjectifs \n\nApprofondir les principes d’anatomie\, de physiologie et de biomécanique\nIdentifier les causes les plus fréquentes de blessures musculo-squelettiques\nExplorer des cas types : surcharge\, hypomobilité\, hypermobilité\, conflits biomécaniques\nDévelopper une réflexion clinique nuancée pour mieux accompagner ses clients\n\nClientèle visée \nPhysiothérapeutes et kinésiologues en début de carrière\, ergothérapeutes\, massothérapeutes et tout intervenant travaillant avec le corps humain. \nContenu \n\nAnatomie : fascias\, fibres musculaires\, points gâchettes\, chaînes myofasciales;\nPhysiologie : guérison tissulaire\, hypertrophie\, adaptation spécifique\, inflammation;\nPathomécanique : types de blessures et stratégies de prise en charge;\nOutils explorés : introception\, auto-exploration\, glissements fascials\, relâchement de points gâchettes\, mobilité active.\n\nMéthode pédagogique \nContenu théorique présenté à travers des discussions de groupe\, des mises en situation\, et des exercices corporels d’auto expérimentation. \nFormation en webinaire via l’application Zoom.  Les informations de connexion ainsi que les notes de cours seront transmises une semaine avant la formation.   \nNOTE IMPORTANTE : chaque participant doit suivre la formation en ligne à partir d’un lap top ou d’un poste de travail individuel. \nNos sessions de formation ne se prêtent pas à une diffusion dans une salle de réunion ni une salle de classe\, à moins qu’elle soit offerte en présentiel.
URL:https://ifcq.ca/formation/gestion-des-blessures-musculo-squelettiques-formation-dune-duree-de-4-heures/
CATEGORIES:ERGONOMIE ET SANTÉ AU TRAVAIL,SANTÉ PHYSIQUE
ATTACH;FMTTYPE=image/png:https://ifcq.ca/wp-content/uploads/2025/06/Creation-sans-titre-21.png
END:VEVENT
END:VCALENDAR