BEGIN:VCALENDAR
VERSION:2.0
PRODID:-//Institut de formation continue du Québec - ECPv6.15.18//NONSGML v1.0//EN
CALSCALE:GREGORIAN
METHOD:PUBLISH
X-ORIGINAL-URL:https://ifcq.ca
X-WR-CALDESC:Évènements pour Institut de formation continue du Québec
REFRESH-INTERVAL;VALUE=DURATION:PT1H
X-Robots-Tag:noindex
X-PUBLISHED-TTL:PT1H
BEGIN:VTIMEZONE
TZID:America/New_York
BEGIN:DAYLIGHT
TZOFFSETFROM:-0500
TZOFFSETTO:-0400
TZNAME:EDT
DTSTART:20250309T070000
END:DAYLIGHT
BEGIN:STANDARD
TZOFFSETFROM:-0400
TZOFFSETTO:-0500
TZNAME:EST
DTSTART:20251102T060000
END:STANDARD
BEGIN:DAYLIGHT
TZOFFSETFROM:-0500
TZOFFSETTO:-0400
TZNAME:EDT
DTSTART:20260308T070000
END:DAYLIGHT
BEGIN:STANDARD
TZOFFSETFROM:-0400
TZOFFSETTO:-0500
TZNAME:EST
DTSTART:20261101T060000
END:STANDARD
BEGIN:DAYLIGHT
TZOFFSETFROM:-0500
TZOFFSETTO:-0400
TZNAME:EDT
DTSTART:20270314T070000
END:DAYLIGHT
BEGIN:STANDARD
TZOFFSETFROM:-0400
TZOFFSETTO:-0500
TZNAME:EST
DTSTART:20271107T060000
END:STANDARD
END:VTIMEZONE
BEGIN:VEVENT
DTSTART;TZID=America/New_York:20260218T090000
DTEND;TZID=America/New_York:20260218T160000
DTSTAMP:20260421T124504
CREATED:20240125T162158Z
LAST-MODIFIED:20251203T131516Z
UID:101022-1771405200-1771430400@ifcq.ca
SUMMARY:Le casse-tête du phénomène de guérison des lésions de pression les 18 & 20 février 2026
DESCRIPTION:FORMATION OFFERTE  LES 18 et 20 février 2026 \nDescription et objectifs \nCe cours de base sur la pratique de l’ergothérapeute en lien avec son travail sur l’intégrité de la peau vise à approfondir les connaissances liées aux lésions de la peau\, à développer un esprit critique\, à optimiser le raisonnement clinique face aux différentes interventions préconisées et à favoriser le travail en pratique collaborative avec l’ensemble des professionnels impliqués dans le casse-tête du phénomène de guérison des lésion de pression tout en approfondissant son rôle spécifique dans l’équipe. \nClientèle visée  \nErgothérapeute \nContenu  \nBases théoriques de la peau\, principes cliniques qui sous-tendent la formation des ulcères de pression\, stades d’ulcères\, évaluation des facteurs de risque\, utilisation d’échelle de mesure\, plan d’intervention global avec le client et les autres intervenants\, aides techniques (aides pour le positionnement\, coussins\, surfaces thérapeutiques)\, choix d’une intervention\, rôle de l’ergothérapeute. \nMéthode pédagogique \nExposés théoriques\, mise en situation. \nFormation en webinaire via l’application zoom \nLes informations de connexion ainsi que les notes de cours seront transmises une semaine avant la formation.  \nNOTE IMPORTANTE : chaque participant doit suivre la formation en ligne à partir d’un lap top ou d’un poste de travail individuel. \nNos sessions de formation ne se prêtent pas à une diffusion dans une salle de réunion ni une salle de classe\, à moins qu’elle soit offerte en présentiel.
URL:https://ifcq.ca/formation/le-casse-tete-du-phenomene-de-guerison-des-lesions-de-pressionce/
CATEGORIES:SANTÉ PHYSIQUE
ATTACH;FMTTYPE=image/png:https://ifcq.ca/wp-content/uploads/2024/01/1.png
END:VEVENT
END:VCALENDAR