BEGIN:VCALENDAR
VERSION:2.0
PRODID:-//Institut de formation continue du Québec - ECPv6.15.18//NONSGML v1.0//EN
CALSCALE:GREGORIAN
METHOD:PUBLISH
X-ORIGINAL-URL:https://ifcq.ca
X-WR-CALDESC:Évènements pour Institut de formation continue du Québec
REFRESH-INTERVAL;VALUE=DURATION:PT1H
X-Robots-Tag:noindex
X-PUBLISHED-TTL:PT1H
BEGIN:VTIMEZONE
TZID:America/New_York
BEGIN:DAYLIGHT
TZOFFSETFROM:-0500
TZOFFSETTO:-0400
TZNAME:EDT
DTSTART:20250309T070000
END:DAYLIGHT
BEGIN:STANDARD
TZOFFSETFROM:-0400
TZOFFSETTO:-0500
TZNAME:EST
DTSTART:20251102T060000
END:STANDARD
BEGIN:DAYLIGHT
TZOFFSETFROM:-0500
TZOFFSETTO:-0400
TZNAME:EDT
DTSTART:20260308T070000
END:DAYLIGHT
BEGIN:STANDARD
TZOFFSETFROM:-0400
TZOFFSETTO:-0500
TZNAME:EST
DTSTART:20261101T060000
END:STANDARD
BEGIN:DAYLIGHT
TZOFFSETFROM:-0500
TZOFFSETTO:-0400
TZNAME:EDT
DTSTART:20270314T070000
END:DAYLIGHT
BEGIN:STANDARD
TZOFFSETFROM:-0400
TZOFFSETTO:-0500
TZNAME:EST
DTSTART:20271107T060000
END:STANDARD
END:VTIMEZONE
BEGIN:VEVENT
DTSTART;TZID=America/New_York:20260327T090000
DTEND;TZID=America/New_York:20260327T160000
DTSTAMP:20260421T111805
CREATED:20240326T004239Z
LAST-MODIFIED:20251014T122647Z
UID:101559-1774602000-1774627200@ifcq.ca
SUMMARY:Lésions de pression: pratique avancée
DESCRIPTION:Description \n En plus de la douleur\, les lésions de pression représentent un obstacle à la réalisation des activités quotidiennes. Bien qu’étant l’objet d’un travail collaboratif\, il importe\, pour les ergothérapeutes\, de bien cerner la problématique en cours afin de jouer leur rôle de façon optimale dans le processus de guérison des lésions. \nObjectifs \n Résoudre des problématiques complexes liées au traitement des lésions de pression ; maitriser le raisonnement clinique face aux choix d’interventions thérapeutiques ; encourager le travail interprofessionnel et la connaissance des rôles respectifs ; développer les visions opérationnelles\, tactiques et stratégiques en lien avec les exigences d’Agrément Canada. \nClientèle visée \n Personnes ayant déjà suivi un cours de base sur les lésions de pression ou ayant un savoir expérientiel riche en lien avec une pratique complexe. \nContenu \n Ateliers de résolution de problèmes supervisés proposés afin de favoriser le partage expérientiel tant en lien avec les aspects de la clientèle\, que les données probantes\, les lésions de pression et le travail interprofessionnel. \nMéthodologie  \nActivités d’équipe pour l’analyse réflexive de vignettes cliniques complexes préparées et fournies par les participants ; un travail de préparation préalable est exigé pour participer à cette formation.  À noter que tous les participants doivent préparer et fournir leur vignette d’un cas complexe et  la soumettre à la formatrice au plus tard deux semaines avant la journée.  \nFormation en webinaire via l’application zoom \nLes informations de connexion ainsi que les notes de cours seront transmises une semaine avant la formation.  \nNOTE IMPORTANTE : chaque participant doit suivre la formation en ligne à partir d’un lap top ou d’un poste de travail individuel. \nNos sessions de formation ne se prêtent pas à une diffusion dans une salle de réunion ni une salle de classe\, à moins qu’elle soit offerte en présentiel. \n 
URL:https://ifcq.ca/formation/lesions-de-pression-pratique-avancee/
CATEGORIES:RELATION D'AIDE,SANTÉ PHYSIQUE
ATTACH;FMTTYPE=image/png:https://ifcq.ca/wp-content/uploads/2024/01/2.png
END:VEVENT
END:VCALENDAR