BEGIN:VCALENDAR
VERSION:2.0
PRODID:-//Institut de formation continue du Québec - ECPv6.15.18//NONSGML v1.0//EN
CALSCALE:GREGORIAN
METHOD:PUBLISH
X-WR-CALNAME:Institut de formation continue du Québec
X-ORIGINAL-URL:https://ifcq.ca
X-WR-CALDESC:Évènements pour Institut de formation continue du Québec
REFRESH-INTERVAL;VALUE=DURATION:PT1H
X-Robots-Tag:noindex
X-PUBLISHED-TTL:PT1H
BEGIN:VTIMEZONE
TZID:America/New_York
BEGIN:DAYLIGHT
TZOFFSETFROM:-0500
TZOFFSETTO:-0400
TZNAME:EDT
DTSTART:20250309T070000
END:DAYLIGHT
BEGIN:STANDARD
TZOFFSETFROM:-0400
TZOFFSETTO:-0500
TZNAME:EST
DTSTART:20251102T060000
END:STANDARD
BEGIN:DAYLIGHT
TZOFFSETFROM:-0500
TZOFFSETTO:-0400
TZNAME:EDT
DTSTART:20260308T070000
END:DAYLIGHT
BEGIN:STANDARD
TZOFFSETFROM:-0400
TZOFFSETTO:-0500
TZNAME:EST
DTSTART:20261101T060000
END:STANDARD
BEGIN:DAYLIGHT
TZOFFSETFROM:-0500
TZOFFSETTO:-0400
TZNAME:EDT
DTSTART:20270314T070000
END:DAYLIGHT
BEGIN:STANDARD
TZOFFSETFROM:-0400
TZOFFSETTO:-0500
TZNAME:EST
DTSTART:20271107T060000
END:STANDARD
END:VTIMEZONE
BEGIN:VEVENT
DTSTART;TZID=America/New_York:20260603T090000
DTEND;TZID=America/New_York:20260603T160000
DTSTAMP:20260421T125325
CREATED:20240426T142616Z
LAST-MODIFIED:20251014T123504Z
UID:101657-1780477200-1780502400@ifcq.ca
SUMMARY:Rôles de l’ergothérapeute dans le soutien de la personne en soins palliatifs et en fin de vie les 3 & 5 juin 2026
DESCRIPTION:FORMATION OFFERTE SUR 2 JOURNÉES CONSÉCUTIVES LES 3 & 5 juin 2026 \nContenu : \nDéfinition des soins en fin de vie\, réflexion personnelle sur la mort et connaissance de soi par rapport à sa propre mort\, étapes du deuil\, relecture de vie et bons outils de communication en fin de vie\, étapes physiques et psychologiques du mourir\, signes et symptômes de l’agonie\, mesures de confort en fin de vie (survol)\, rites funéraires\, différentes croyances face à la mort\, deuil des soignants\, avantages et désavantages d’un maintien à domicile en fin de vie et aspect légal. \nObjectifs : \nCe cours vise à connaître la mort\, se connaître face à la mort\, apprendre\, revisiter ou explorer les compétences inhérentes à l’ergothérapeute dans son rôle professionnel face à la personne en soins palliatifs et en fin de vie. En plus d’être un espace sécuritaire pour apprivoiser plusieurs concepts et interventions spécifiques liés à la pratique spécifique de l’ergothérapeute dans l’accompagnement de l’usager face au mourir\, les notions de pratique collaborative et de partenariat de soins sont également abordées. À noter qu’une partenaire de soins enseignante pourrait être présente pendant une partie de la formation. \n Clientèle visée : \nErgothérapeutes. \nMéthode pédagogique : \nExposés théoriques\, échanges sur les expériences personnelles face à la mort. \nFormation en webinaire via l’application zoom \nLes informations de connexion ainsi que les notes de cours seront transmises une semaine avant la formation.  \nNOTE IMPORTANTE : chaque participant doit suivre la formation en ligne à partir d’un lap top ou d’un poste de travail individuel. \nNos sessions de formation ne se prêtent pas à une diffusion dans une salle de réunion ni une salle de classe\, à moins qu’elle soit offerte en présentiel.
URL:https://ifcq.ca/formation/roles-de-lergotherapeute-dans-le-soutien-de-la-personne-en-soins-palliatifs-et-en-fin-de-vie/
CATEGORIES:RELATION D'AIDE,SANTÉ MENTALE,SANTÉ PHYSIQUE
ATTACH;FMTTYPE=image/jpeg:https://ifcq.ca/wp-content/uploads/2024/04/Formation-en-ligne-IFCQ.jpg
END:VEVENT
END:VCALENDAR